BEGIN:VCALENDAR
VERSION:2.0
PRODID:-//Les Anciens de Pointe-Claire Oldtimers - ECPv6.13.2.1//NONSGML v1.0//EN
CALSCALE:GREGORIAN
METHOD:PUBLISH
X-WR-CALNAME:Les Anciens de Pointe-Claire Oldtimers
X-ORIGINAL-URL:https://pcot.ca
X-WR-CALDESC:Events for Les Anciens de Pointe-Claire Oldtimers
REFRESH-INTERVAL;VALUE=DURATION:PT1H
X-Robots-Tag:noindex
X-PUBLISHED-TTL:PT1H
BEGIN:VTIMEZONE
TZID:America/Toronto
BEGIN:DAYLIGHT
TZOFFSETFROM:-0500
TZOFFSETTO:-0400
TZNAME:EDT
DTSTART:20260308T070000
END:DAYLIGHT
BEGIN:STANDARD
TZOFFSETFROM:-0400
TZOFFSETTO:-0500
TZNAME:EST
DTSTART:20261101T060000
END:STANDARD
END:VTIMEZONE
BEGIN:VEVENT
DTSTART;TZID=America/Toronto:20260506T193000
DTEND;TZID=America/Toronto:20260506T233000
DTSTAMP:20260422T134633
CREATED:20260312T194510Z
LAST-MODIFIED:20260312T194832Z
UID:3612-1778095800-1778110200@pcot.ca
SUMMARY:ANNUAL GENERAL MEETING
DESCRIPTION:Tous les membres sont invités / All members are invited !\nASSEMBLÉE GÉNÉRALE DES MEMBRESLa prochaine assemblée générale aura lieu mercredi le 6 mai 2026 à 19h30 au Centre nautique de Baie-de-Valois\, 90 Chemin du Bord-du-Lac-Lakeshore. Tous les membres de PCOT y sont invités. De nouveaux directeurs seront nommés et une élection pour déterminer les nouveaux membres du comité exécutif sera tenue. \nANNUAL GENERAL MEETINGThe next general meeting will be held on Wednesday May 6th\, 2026\, at 7:30 pm at the Baie-de-Valois Nautical Centre\, 90 Chemin du Bord-du-Lac-Lakeshore. All PCOT members are invited to attend. New directors will be appointed and an election will be held to determine the new members of the executive committee.
URL:https://pcot.ca/event/meeting-of-the-directors-april-2/
LOCATION:Baie-de-Valois Nautical Centre\, 90 Chemin du Bord-du-Lac-Lakeshore\, Pointe-Claire\, Quebec\, H9S 4H7\, Canada
END:VEVENT
END:VCALENDAR